BEGIN:VCALENDAR
VERSION:2.0
PRODID:-//ChamberMaster//Event Calendar 2.0//EN
METHOD:PUBLISH
X-PUBLISHED-TTL:P3D
REFRESH-INTERVAL:P3D
CALSCALE:GREGORIAN
BEGIN:VEVENT
DTSTART:20200413T220000Z
DTEND:20200414T000000Z
X-MICROSOFT-CDO-ALLDAYEVENT:FALSE
SUMMARY:One Book\, One Community of Licking County
DESCRIPTION:Join One Book One Community\, a free community book club\, in reading "What the Eyes Don't See: A Story of Crisis\, Resistance\, and Hope in an American City" by Dr. Mona Hanna-Attisha. Join Dr. Hanna-Attisha for a book discussion and book signing on April 13. Free copies are available to the first 150 registrants. Register at any public library in Licking County\, the John L. and Christine Warner Library and Student Center\, the Advancement Office in the John Gilbert Reese Center\, the Licking County Health Department\, the United Way of Licking County\, or purchase at the Newark Campus Barnes and Noble bookstore. Hosted by the Ohio State University at Newark and COTC. Made possible through the Melissa Warner Bow endowed fund. Additional funding provided by Denison University\, Explore Licking County\, Licking County Foundation\, and the United Way of Licking County. "What Your Eyes Don't See is also this year's Common Book being read by all first-year students at Ohio State Newark.
X-ALT-DESC;FMTTYPE=text/html:Join One Book One Community\, a free community book club\, in reading &quot\;What the Eyes Don&#39\;t See: A Story of Crisis\, Resistance\, and Hope in an American City&quot\; by Dr. Mona Hanna-Attisha. Join Dr. Hanna-Attisha for a book discussion and book signing on April 13. Free copies are available to the first 150 registrants. Register at any public library in Licking County\, the John L. and Christine Warner Library and Student Center\, the Advancement Office in the John Gilbert Reese Center\, the Licking County Health Department\, the United Way of Licking County\, or purchase at the Newark Campus Barnes and Noble bookstore. Hosted by the Ohio State University at Newark and COTC. Made possible through the Melissa Warner Bow endowed fund. Additional funding provided by Denison University\, Explore Licking County\, Licking County Foundation\, and the United Way of Licking County. &quot\;What Your Eyes Don&#39\;t See is also this year&#39\;s Common Book being read by all first-year students at Ohio State Newark.
LOCATION:The John Gilbert Reese Center 1209 University Dr. Newark\, OH
UID:e.180.14404
SEQUENCE:3
DTSTAMP:20260422T131221Z
URL:https://business.granvilleoh.com/events/details/one-book-one-community-of-licking-county-04-13-2020-14404
END:VEVENT

END:VCALENDAR
