BEGIN:VCALENDAR
VERSION:2.0
PRODID:-//ChamberMaster//Event Calendar 2.0//EN
METHOD:PUBLISH
X-PUBLISHED-TTL:P3D
REFRESH-INTERVAL:P3D
CALSCALE:GREGORIAN
BEGIN:VEVENT
DTSTART:20200306T220000Z
DTEND:20200307T000000Z
X-MICROSOFT-CDO-ALLDAYEVENT:FALSE
SUMMARY:Opening Reception: Studio Art Minor Show
DESCRIPTION:Denison University presents an opening reception for the Studio Art Minor Show in both the Bryant Arts Center (210 West College) and the Mulberry House (202 North Mulberry). \nThe Studio Art Minor exhibition will be held from Friday\, March 6 through Friday\, March 20\, in both the Bryant Arts Gallery and the Mulberry Gallery.
X-ALT-DESC;FMTTYPE=text/html:<span style="background-color:transparent\; color:rgb(0\, 0\, 0)\; font-family:arial\; font-size:11pt">Denison University presents an opening reception for the Studio Art Minor Show in both the Bryant Arts Center (210 West College) and the Mulberry House (202 North Mulberry). </span>\n<p><span style="background-color:transparent\; color:rgb(0\, 0\, 0)\; font-family:arial\; font-size:11pt">The Studio Art Minor exhibition will be held from Friday\, March 6 through Friday\, March 20\, in both the Bryant Arts Gallery and the Mulberry Gallery.&nbsp\;</span></p>\n\n<div>&nbsp\;</div>\n
LOCATION:Denison University Bryant Arts Center (210 West College) Mulberry House (202 North Mulberry)
UID:e.180.14341
SEQUENCE:3
DTSTAMP:20260422T141746Z
URL:https://business.granvilleoh.com/events/details/opening-reception-studio-art-minor-show-14341
END:VEVENT

END:VCALENDAR
