BEGIN:VCALENDAR
VERSION:2.0
PRODID:-//ChamberMaster//Event Calendar 2.0//EN
METHOD:PUBLISH
X-PUBLISHED-TTL:P3D
REFRESH-INTERVAL:P3D
CALSCALE:GREGORIAN
BEGIN:VEVENT
DTSTART:20211203T000000Z
DTEND:20211203T010000Z
X-MICROSOFT-CDO-ALLDAYEVENT:FALSE
SUMMARY:Orchestra concert: 'Festive Pops!'
DESCRIPTION:The Denison University Orchestra\, under the direction of Philip Rudd\, presents a concert featuring festive holiday favorites.
X-ALT-DESC;FMTTYPE=text/html:<div>\n<p><span style="color:rgb(0\, 0\, 0)\; font-family:roboto\,sans-serif\; font-size:14px">The Denison University Orchestra\, under the direction of Philip Rudd\, presents a concert featuring festive holiday favorites.</span></p>\n\n<p>&nbsp\;</p>\n\n<div>&nbsp\;</div>\n</div>\n
LOCATION:Michael D. Eisner Center for the Performing Arts - Sharon Martin Hall 240 W Broadway Granville
UID:e.180.16130
SEQUENCE:3
DTSTAMP:20260421T095544Z
URL:https://business.granvilleoh.com/events/details/orchestra-concert-festive-pops-16130
END:VEVENT

END:VCALENDAR
