BEGIN:VCALENDAR
VERSION:2.0
PRODID:-//ChamberMaster//Event Calendar 2.0//EN
METHOD:PUBLISH
X-PUBLISHED-TTL:P3D
REFRESH-INTERVAL:P3D
CALSCALE:GREGORIAN
BEGIN:VEVENT
DTSTART:20210724T010000Z
DTEND:20210724T030000Z
X-MICROSOFT-CDO-ALLDAYEVENT:FALSE
SUMMARY:Outdoor Movie Night at Spring Valley Nature Preserve
DESCRIPTION:Join the Granville Public Library and Granville Rec for an outdoor movie! Bring a blanket or chairs and a snack to watch "Edge of Tomorrow" outdoors under the stars! (PG-13) Teens and Adults. We suggest bringing a flashlight and bug spray.
X-ALT-DESC;FMTTYPE=text/html:Join the Granville Public Library and Granville Rec for an outdoor movie! Bring a blanket or chairs and a snack to watch &quot\;Edge of Tomorrow&quot\; outdoors under the stars! (PG-13) Teens and Adults. We suggest bringing a flashlight and bug spray.
LOCATION:Spring Valley Nature Preserve
UID:e.180.16029
SEQUENCE:3
DTSTAMP:20260421T163447Z
URL:https://business.granvilleoh.com/events/details/outdoor-movie-night-at-spring-valley-nature-preserve-16029
END:VEVENT

END:VCALENDAR
