BEGIN:VCALENDAR
VERSION:2.0
PRODID:-//ChamberMaster//Event Calendar 2.0//EN
METHOD:PUBLISH
X-PUBLISHED-TTL:P3D
REFRESH-INTERVAL:P3D
CALSCALE:GREGORIAN
BEGIN:VEVENT
DTSTART:20200116T000000Z
DTEND:20200116T010000Z
X-MICROSOFT-CDO-ALLDAYEVENT:FALSE
SUMMARY:Overlooked Books Book Club
DESCRIPTION:We're reading "A Woman is No Man" by Etaf Rum. Follow the story of Isra\, a recent newlywed\, as she immigrates from Palestine to America. Culture clashes provide part of the drama for her new life\, and her experience raising her daughter in the US. Join us to share your thoughts and discuss this book.
X-ALT-DESC;FMTTYPE=text/html:We&#39\;re reading &quot\;A Woman is No Man&quot\; by Etaf Rum. Follow the story of Isra\, a recent newlywed\, as she immigrates from Palestine to America. Culture clashes provide part of the drama for her new life\, and her experience raising her daughter in the US. Join us to share your thoughts and discuss this book.
LOCATION:Granville Public Library
UID:e.180.14019
SEQUENCE:3
DTSTAMP:20260422T184040Z
URL:https://business.granvilleoh.com/events/details/overlooked-books-book-club-01-15-2020-14019
END:VEVENT

END:VCALENDAR
