BEGIN:VCALENDAR
VERSION:2.0
PRODID:-//ChamberMaster//Event Calendar 2.0//EN
METHOD:PUBLISH
X-PUBLISHED-TTL:P3D
REFRESH-INTERVAL:P3D
CALSCALE:GREGORIAN
BEGIN:VEVENT
DTSTART:20210121T000000Z
DTEND:20210121T010000Z
X-MICROSOFT-CDO-ALLDAYEVENT:FALSE
SUMMARY:Overlooked Books Book Club
DESCRIPTION:Join us on zoom to discuss Lisa Wingate's newest book\, "The Book of Lost Friends". The story follows three women searching for family in a post Civil War south and the life of a first-year teacher in 1987 who discovers their story. Copies are available at our main desk. Reserve one for pick-up by calling 740-587-0196 or emailing wbittel@granvillelibrary.org. This title is also available as an ebook or audiobook through Libby. Register at granvillelibrary.org/calendar/month to receive the link to the zoom call about an hour before the program begins.
X-ALT-DESC;FMTTYPE=text/html:Join us on zoom to discuss Lisa Wingate&#39\;s newest book\, &quot\;The Book of Lost Friends&quot\;. The story follows three women searching for family in a post Civil War south and the life of a first-year teacher in 1987 who discovers their story. Copies are available at our main desk. Reserve one for pick-up by calling 740-587-0196 or emailing wbittel@granvillelibrary.org. This title is also available as an ebook or audiobook through Libby. Register at granvillelibrary.org/calendar/month to receive the link to the zoom call about an hour before the program begins.
LOCATION:Granville Public Library via Zoom
UID:e.180.14710
SEQUENCE:3
DTSTAMP:20260422T005752Z
URL:https://business.granvilleoh.com/events/details/overlooked-books-book-club-01-20-2021-14710
END:VEVENT

END:VCALENDAR
