BEGIN:VCALENDAR
VERSION:2.0
PRODID:-//ChamberMaster//Event Calendar 2.0//EN
METHOD:PUBLISH
X-PUBLISHED-TTL:P3D
REFRESH-INTERVAL:P3D
CALSCALE:GREGORIAN
BEGIN:VEVENT
DTSTART:20210218T000000Z
DTEND:20210218T010000Z
X-MICROSOFT-CDO-ALLDAYEVENT:FALSE
SUMMARY:Overlooked Books Book Club
DESCRIPTION:Join us to discuss the classic "The Winter of Our Discontent" by John Steinbeck. Follow the story of Ethan Allen Hawley as he struggles to maintain integrity and honesty in the face of familial\, economic\, and societal pressures. Copies are available at our main desk. Reserve one for pick-up by calling 740-587-0196 or emailing wbittel@granvillelibrary.org. This title is also available as an ebook through Libby or as an audiobook through Libby and Hoopla. Register for the zoom program to receive a link to the meeting about an hour before the program begins. Register at granvillelibrary.org/calendar/month
X-ALT-DESC;FMTTYPE=text/html:Join us to discuss the classic &quot\;The Winter of Our Discontent&quot\; by John Steinbeck. Follow the story of Ethan Allen Hawley as he struggles to maintain integrity and honesty in the face of familial\, economic\, and societal pressures. Copies are available at our main desk. Reserve one for pick-up by calling 740-587-0196 or emailing wbittel@granvillelibrary.org. This title is also available as an ebook through Libby or as an audiobook through Libby and Hoopla. Register for the zoom program to receive a link to the meeting about an hour before the program begins. Register at granvillelibrary.org/calendar/month
LOCATION:Granville Public Library via Zoom
UID:e.180.14739
SEQUENCE:3
DTSTAMP:20260422T003531Z
URL:https://business.granvilleoh.com/events/details/overlooked-books-book-club-02-17-2021-14739
END:VEVENT

END:VCALENDAR
