BEGIN:VCALENDAR
VERSION:2.0
PRODID:-//ChamberMaster//Event Calendar 2.0//EN
METHOD:PUBLISH
X-PUBLISHED-TTL:P3D
REFRESH-INTERVAL:P3D
CALSCALE:GREGORIAN
BEGIN:VEVENT
DTSTART:20200220T000000Z
DTEND:20200220T010000Z
X-MICROSOFT-CDO-ALLDAYEVENT:FALSE
SUMMARY:Overlooked Books Book Club
DESCRIPTION:Join us to discuss Colson Whitehead's "The Nickel Boys"\, a novel based on a real reform school that operated in the south for 111 years.
X-ALT-DESC;FMTTYPE=text/html:Join us to discuss Colson Whitehead&#39\;s &quot\;The Nickel Boys&quot\;\, a novel based on a real reform school that operated in the south for 111 years.
LOCATION:Granville Public Library
UID:e.180.14077
SEQUENCE:3
DTSTAMP:20260422T171413Z
URL:https://business.granvilleoh.com/events/details/overlooked-books-book-club-02-19-2020-14077
END:VEVENT

END:VCALENDAR
