BEGIN:VCALENDAR
VERSION:2.0
PRODID:-//ChamberMaster//Event Calendar 2.0//EN
METHOD:PUBLISH
X-PUBLISHED-TTL:P3D
REFRESH-INTERVAL:P3D
CALSCALE:GREGORIAN
BEGIN:VEVENT
DTSTART:20210317T230000Z
DTEND:20210318T000000Z
X-MICROSOFT-CDO-ALLDAYEVENT:FALSE
SUMMARY:Overlooked Books Book Club
DESCRIPTION:Join us for Overlooked Books! For March we are reading "When Women Ruled the World: Six Queens of Egypt" by Kara Cooney. Cooney\, who is an associate professor of Egyptian Art and Architecture at UCLA\, follows the history of 6 female pharaohs starting with Hatshepsut and ending with Cleopatra. . Reserve a copy of this book by calling 740-587-0196. This title is also available on Hoopla as an ebook or audiobook\, Register for the program to receive a link to the zoom meeting about an hour before it starts. GranvilleLibrary.org/calendar/month
X-ALT-DESC;FMTTYPE=text/html:Join us for Overlooked Books! For March we are reading &quot\;When Women Ruled the World: Six Queens of Egypt&quot\; by Kara Cooney. Cooney\, who is an associate professor of Egyptian Art and Architecture at UCLA\, follows the history of 6 female pharaohs starting with Hatshepsut and ending with Cleopatra. . Reserve a copy of this book by calling 740-587-0196. This title is also available on Hoopla as an ebook or audiobook\, Register for the program to receive a link to the zoom meeting about an hour before it starts. GranvilleLibrary.org/calendar/month
LOCATION:Granville Public Library via Zoom
UID:e.180.14754
SEQUENCE:3
DTSTAMP:20260421T221055Z
URL:https://business.granvilleoh.com/events/details/overlooked-books-book-club-03-17-2021-14754
END:VEVENT

END:VCALENDAR
