BEGIN:VCALENDAR
VERSION:2.0
PRODID:-//ChamberMaster//Event Calendar 2.0//EN
METHOD:PUBLISH
X-PUBLISHED-TTL:P3D
REFRESH-INTERVAL:P3D
CALSCALE:GREGORIAN
BEGIN:VEVENT
DTSTART:20200318T230000Z
DTEND:20200319T000000Z
X-MICROSOFT-CDO-ALLDAYEVENT:FALSE
SUMMARY:Overlooked Books Book Club
DESCRIPTION:Dive into the dark side of the Sunshine State as we explore "Florida" by Lauren Groff. Its a series of short stories that are\, according to Groff\, "a damp\, dense\, tangle\, an Eden of dangerous things".
X-ALT-DESC;FMTTYPE=text/html:Dive into the dark side of the Sunshine State as we explore &quot\;Florida&quot\; by Lauren Groff. Its a series of short stories that are\, according to Groff\, &quot\;a damp\, dense\, tangle\, an Eden of dangerous things&quot\;.
LOCATION:Granville Public Library
UID:e.180.14280
SEQUENCE:3
DTSTAMP:20260422T142851Z
URL:https://business.granvilleoh.com/events/details/overlooked-books-book-club-03-18-2020-14280
END:VEVENT

END:VCALENDAR
