BEGIN:VCALENDAR
VERSION:2.0
PRODID:-//ChamberMaster//Event Calendar 2.0//EN
METHOD:PUBLISH
X-PUBLISHED-TTL:P3D
REFRESH-INTERVAL:P3D
CALSCALE:GREGORIAN
BEGIN:VEVENT
DTSTART:20200415T230000Z
DTEND:20200416T003000Z
X-MICROSOFT-CDO-ALLDAYEVENT:FALSE
SUMMARY:Overlooked Books Book Club
DESCRIPTION:Join us as we discuss "The Good Neighbor: The Life and Work of Fred Rogers" by Maxwell King. Mr. Roger's Neighborhood aired for over 30 years and discussed topics like divorce\, war\, death\, and other controversial topics in a calm and understanding manner that children could comprehend. Pick up a copy of the title at our main desk and join us for a look at the life of the creator of this memorable show.
X-ALT-DESC;FMTTYPE=text/html:Join us as we discuss &quot\;The Good Neighbor: The Life and Work of Fred Rogers&quot\; by Maxwell King. Mr. Roger&#39\;s Neighborhood aired for over 30 years and discussed topics like divorce\, war\, death\, and other controversial topics in a calm and understanding manner that children could comprehend. Pick up a copy of the title at our main desk and join us for a look at the life of the creator of this memorable show.
LOCATION:Granville Public Library
UID:e.180.14407
SEQUENCE:3
DTSTAMP:20260422T131221Z
URL:https://business.granvilleoh.com/events/details/overlooked-books-book-club-04-15-2020-14407
END:VEVENT

END:VCALENDAR
