BEGIN:VCALENDAR
VERSION:2.0
PRODID:-//ChamberMaster//Event Calendar 2.0//EN
METHOD:PUBLISH
X-PUBLISHED-TTL:P3D
REFRESH-INTERVAL:P3D
CALSCALE:GREGORIAN
BEGIN:VEVENT
DTSTART:20200617T230000Z
DTEND:20200618T000000Z
X-MICROSOFT-CDO-ALLDAYEVENT:FALSE
SUMMARY:Overlooked Books Book Club
DESCRIPTION:Join us for Overlooked Books! This month we are reading "Magpie Murders" by Anthony Horowitz. It's available for pick-up\, on Libby and on Hoopla. Meet Atticus Pund who solves disturbing murders in sleepy English Villages!
X-ALT-DESC;FMTTYPE=text/html:Join us for Overlooked Books! This month we are reading &quot\;Magpie Murders&quot\; by Anthony Horowitz. It&#39\;s available for pick-up\, on Libby and on Hoopla. Meet Atticus Pund who solves disturbing murders in sleepy English Villages!
LOCATION:Granville Public Library
UID:e.180.14529
SEQUENCE:3
DTSTAMP:20260422T114911Z
URL:https://business.granvilleoh.com/events/details/overlooked-books-book-club-06-17-2020-14529
END:VEVENT

END:VCALENDAR
