BEGIN:VCALENDAR
VERSION:2.0
PRODID:-//ChamberMaster//Event Calendar 2.0//EN
METHOD:PUBLISH
X-PUBLISHED-TTL:P3D
REFRESH-INTERVAL:P3D
CALSCALE:GREGORIAN
BEGIN:VEVENT
DTSTART:20200819T230000Z
DTEND:20200820T000000Z
X-MICROSOFT-CDO-ALLDAYEVENT:FALSE
SUMMARY:Overlooked Books Book Club
DESCRIPTION:This month we are reading Toni Morrison's "The Origin of Others" which draws from her Norton Lectures conducted at Harvard University. She shares her reflections on race\, literature\, and the human tendency to construct "others". To reserve a copy of the book\, please email wbittel@granvillelibrary.org. Our book club discussion will be conducted through Zoom. Register for the meeting at GranvilleLibrary.org/calendar/month.
X-ALT-DESC;FMTTYPE=text/html:This month we are reading Toni Morrison&#39\;s &quot\;The Origin of Others&quot\; which draws from her Norton Lectures conducted at Harvard University. She shares her reflections on race\, literature\, and the human tendency to construct &quot\;others&quot\;. To reserve a copy of the book\, please email wbittel@granvillelibrary.org. Our book club discussion will be conducted through Zoom. Register for the meeting at GranvilleLibrary.org/calendar/month.
LOCATION:Granville Public Library
UID:e.180.14568
SEQUENCE:3
DTSTAMP:20260422T084811Z
URL:https://business.granvilleoh.com/events/details/overlooked-books-book-club-08-19-2020-14568
END:VEVENT

END:VCALENDAR
