BEGIN:VCALENDAR
VERSION:2.0
PRODID:-//ChamberMaster//Event Calendar 2.0//EN
METHOD:PUBLISH
X-PUBLISHED-TTL:P3D
REFRESH-INTERVAL:P3D
CALSCALE:GREGORIAN
BEGIN:VEVENT
DTSTART:20210915T230000Z
DTEND:20210916T000000Z
X-MICROSOFT-CDO-ALLDAYEVENT:FALSE
SUMMARY:Overlooked Books Book Club
DESCRIPTION:We are reading The Bookwoman of Troublesome Creek by Kim Michele Richardson. Join us to discuss this work of historical fiction based on the real-life Kentucky Pack Horse Library Project which served the people of Appalachia. Cussy Mary Carter\, the main character\, also has a unique physical attribute that adds another dimension to the story. Copies are available at our main desk.
X-ALT-DESC;FMTTYPE=text/html:We are reading The Bookwoman of Troublesome Creek by Kim Michele Richardson. Join us to discuss this work of historical fiction based on the real-life Kentucky Pack Horse Library Project which served the people of Appalachia. Cussy Mary Carter\, the main character\, also has a unique physical attribute that adds another dimension to the story. Copies are available at our main desk.
LOCATION:Granville Public Library
UID:e.180.16053
SEQUENCE:3
DTSTAMP:20260421T140637Z
URL:https://business.granvilleoh.com/events/details/overlooked-books-book-club-09-15-2021-16053
END:VEVENT

END:VCALENDAR
