BEGIN:VCALENDAR
VERSION:2.0
PRODID:-//ChamberMaster//Event Calendar 2.0//EN
METHOD:PUBLISH
X-PUBLISHED-TTL:P3D
REFRESH-INTERVAL:P3D
CALSCALE:GREGORIAN
BEGIN:VEVENT
DTSTART:20200916T230000Z
DTEND:20200917T000000Z
X-MICROSOFT-CDO-ALLDAYEVENT:FALSE
SUMMARY:Overlooked Books Book Club
DESCRIPTION:Join an adventure into the Amazon of 1925 in this story of British Explorer Percy Fawcett as we read "The Lost City of Z" by David Grann.  To reserve a copy of the book\, email wbittel@granvillelibrary.org.   The title can also be downloaded from Libby as a book or audiobook.  \n\nRegister for the program and you'll receive a link to the Zoom meeting about an hour before the program begins.
X-ALT-DESC;FMTTYPE=text/html:Join an adventure into the Amazon of 1925 in this story of British Explorer Percy Fawcett as we read "The Lost City of Z" by David Grann.  To reserve a copy of the book\, email wbittel@granvillelibrary.org.   The title can also be downloaded from Libby as a book or audiobook.  \n\nRegister for the program and you'll receive a link to the Zoom meeting about an hour before the program begins.
LOCATION:Granville Public Library via Zoom
UID:e.180.14588
SEQUENCE:3
DTSTAMP:20260422T060432Z
URL:https://business.granvilleoh.com/events/details/overlooked-books-book-club-09-16-2020-14588
END:VEVENT

END:VCALENDAR
