BEGIN:VCALENDAR
VERSION:2.0
PRODID:-//ChamberMaster//Event Calendar 2.0//EN
METHOD:PUBLISH
X-PUBLISHED-TTL:P3D
REFRESH-INTERVAL:P3D
CALSCALE:GREGORIAN
BEGIN:VEVENT
DTSTART:20211020T230000Z
DTEND:20211021T000000Z
X-MICROSOFT-CDO-ALLDAYEVENT:FALSE
SUMMARY:Overlooked Books Book Club
DESCRIPTION:We are reading Caste: The Origins of our Discontent by Isabel Wilkerson. Examine the intersection between casteism and racism from a historical perspective. Copies are available at our main desk. Register at GranvilleLibrary.org/calendar/month
X-ALT-DESC;FMTTYPE=text/html:We are reading Caste: The Origins of our Discontent by Isabel Wilkerson. Examine the intersection between casteism and racism from a historical perspective. Copies are available at our main desk. Register at GranvilleLibrary.org/calendar/month
LOCATION:Granville Public Library
UID:e.180.16094
SEQUENCE:3
DTSTAMP:20260421T140627Z
URL:https://business.granvilleoh.com/events/details/overlooked-books-book-club-10-20-2021-16094
END:VEVENT

END:VCALENDAR
