BEGIN:VCALENDAR
VERSION:2.0
PRODID:-//ChamberMaster//Event Calendar 2.0//EN
METHOD:PUBLISH
X-PUBLISHED-TTL:P3D
REFRESH-INTERVAL:P3D
CALSCALE:GREGORIAN
BEGIN:VEVENT
DTSTART:20201021T230000Z
DTEND:20201022T000000Z
X-MICROSOFT-CDO-ALLDAYEVENT:FALSE
SUMMARY:Overlooked Books Book Club
DESCRIPTION:This month\, we are reading Rebecca Makkai's "The Great Believers". Two stories intertwine in this National Book Award and Pulitzer finalist. The first is set during the 1980's AIDS epidemic and the second in modern-day Paris where a mother struggles to save her daughter from a cult. Join us to discuss this novel! Stop by the main desk to pick up a copy or email wbittel@granvillelibrary.org. Register at GranvilleLibrary.org/calendar/month.
X-ALT-DESC;FMTTYPE=text/html:This month\, we are reading Rebecca Makkai&#39\;s &quot\;The Great Believers&quot\;. Two stories intertwine in this National Book Award and Pulitzer finalist. The first is set during the 1980&#39\;s AIDS epidemic and the second in modern-day Paris where a mother struggles to save her daughter from a cult. Join us to discuss this novel! Stop by the main desk to pick up a copy or email wbittel@granvillelibrary.org. Register at GranvilleLibrary.org/calendar/month.
LOCATION:Granville Public Library via Zoom
UID:e.180.14624
SEQUENCE:3
DTSTAMP:20260422T044915Z
URL:https://business.granvilleoh.com/events/details/overlooked-books-book-club-10-21-2020-14624
END:VEVENT

END:VCALENDAR
