BEGIN:VCALENDAR
VERSION:2.0
PRODID:-//ChamberMaster//Event Calendar 2.0//EN
METHOD:PUBLISH
X-PUBLISHED-TTL:P3D
REFRESH-INTERVAL:P3D
CALSCALE:GREGORIAN
BEGIN:VEVENT
DTSTART:20211118T000000Z
DTEND:20211118T010000Z
X-MICROSOFT-CDO-ALLDAYEVENT:FALSE
SUMMARY:Overlooked Books Book Club
DESCRIPTION:The Midnight Library's shelves extend forever. It provides a chance to redo your life\; change the choices made\, undo regrets\, and follow your dreams. Nora Seed finds herself faced with these choices. Join us in November to discuss Matt Haig's latest book! Copies are available at our main desk after our October meeting. Please register to attend at GranvilleLibrary.org/calendar/month
X-ALT-DESC;FMTTYPE=text/html:The Midnight Library&#39\;s shelves extend forever. It provides a chance to redo your life\; change the choices made\, undo regrets\, and follow your dreams. Nora Seed finds herself faced with these choices. Join us in November to discuss Matt Haig&#39\;s latest book! Copies are available at our main desk after our October meeting. Please register to attend at GranvilleLibrary.org/calendar/month
LOCATION:Granville Public Library
UID:e.180.16146
SEQUENCE:3
DTSTAMP:20260421T112226Z
URL:https://business.granvilleoh.com/events/details/overlooked-books-book-club-11-17-2021-16146
END:VEVENT

END:VCALENDAR
