BEGIN:VCALENDAR
VERSION:2.0
PRODID:-//ChamberMaster//Event Calendar 2.0//EN
METHOD:PUBLISH
X-PUBLISHED-TTL:P3D
REFRESH-INTERVAL:P3D
CALSCALE:GREGORIAN
BEGIN:VEVENT
DTSTART:20201119T000000Z
DTEND:20201119T010000Z
X-MICROSOFT-CDO-ALLDAYEVENT:FALSE
SUMMARY:Overlooked Books Book Club
DESCRIPTION:For November\, we're reading Ted Chiang's Exhalation Stories\, a series of short science fiction stories that grapple with philosophical questions. Reserve a copy by emailing wbittel@granvillelibrary.org or stop by our main desk to pick one up! Register for the Zoom meeting at GranvilleLibrary.org/calendar/month
X-ALT-DESC;FMTTYPE=text/html:For November\, we&#39\;re reading Ted Chiang&#39\;s Exhalation Stories\, a series of short science fiction stories that grapple with philosophical questions. Reserve a copy by emailing wbittel@granvillelibrary.org or stop by our main desk to pick one up! Register for the Zoom meeting at GranvilleLibrary.org/calendar/month
LOCATION:Granville Public Library via Zoom
UID:e.180.14648
SEQUENCE:3
DTSTAMP:20260422T033534Z
URL:https://business.granvilleoh.com/events/details/overlooked-books-book-club-11-18-2020-14648
END:VEVENT

END:VCALENDAR
