BEGIN:VCALENDAR
VERSION:2.0
PRODID:-//ChamberMaster//Event Calendar 2.0//EN
METHOD:PUBLISH
X-PUBLISHED-TTL:P3D
REFRESH-INTERVAL:P3D
CALSCALE:GREGORIAN
BEGIN:VEVENT
DTSTART:20210616T230000Z
DTEND:20210617T003000Z
X-MICROSOFT-CDO-ALLDAYEVENT:FALSE
SUMMARY:Overlooked Books Book Club: The Guest List
DESCRIPTION:Join us for Overlooked Books! For June\, we are reading "The Guest List" by Lucy Foley. What could go wrong at an extravagant wedding for a golden couple on an island off the coast of Ireland? Murder! Join us for this whodunnit at Infirmary Mound Park at Shelter number 5 weather permitting. If the weather is disagreeable\, we will meet in the library. Register at GranvilleLibrary.org/calendar/month Pick up a copy of this book at our main desk. The Guest List is also available on Libby. Register for the program to receive an update if we need to move the outdoor event.
X-ALT-DESC;FMTTYPE=text/html:Join us for Overlooked Books! For June\, we are reading &quot\;The Guest List&quot\; by Lucy Foley. What could go wrong at an extravagant wedding for a golden couple on an island off the coast of Ireland? Murder! Join us for this whodunnit at Infirmary Mound Park at Shelter number 5 weather permitting. If the weather is disagreeable\, we will meet in the library. Register at GranvilleLibrary.org/calendar/month Pick up a copy of this book at our main desk. The Guest List is also available on Libby. Register for the program to receive an update if we need to move the outdoor event.
LOCATION:Infirmary Mound Park Shelter House #5
UID:e.180.14809
SEQUENCE:3
DTSTAMP:20260421T180634Z
URL:https://business.granvilleoh.com/events/details/overlooked-books-book-club-the-guest-list-14809
END:VEVENT

END:VCALENDAR
