BEGIN:VCALENDAR
VERSION:2.0
PRODID:-//ChamberMaster//Event Calendar 2.0//EN
METHOD:PUBLISH
X-PUBLISHED-TTL:P3D
REFRESH-INTERVAL:P3D
CALSCALE:GREGORIAN
BEGIN:VEVENT
DTSTART:20210721T230000Z
DTEND:20210722T003000Z
X-MICROSOFT-CDO-ALLDAYEVENT:FALSE
SUMMARY:Overlooked Books Book Club: Transcendent Kingdom
DESCRIPTION:Join us for Overlooked Books! For July\, we are reading "Transcendent Kingdom" by Yaa Gyasi. Follow the Gifty as she struggles to navigate the hurdles of immigration\, religion\, addiction and grief. We will meet at Infirmary Mound Park at Shelter number 5 weather permitting. If the weather is uncooperative\, we will meet at the library. Transcendent Kingdom is also available on Libby as an ebook or audiobook. Register for the program to receive an update if the weather not accommodate an outdoor event. Register at GranvilleLibrary.org/calendar/month
X-ALT-DESC;FMTTYPE=text/html:Join us for Overlooked Books! For July\, we are reading &quot\;Transcendent Kingdom&quot\; by Yaa Gyasi. Follow the Gifty as she struggles to navigate the hurdles of immigration\, religion\, addiction and grief. We will meet at Infirmary Mound Park at Shelter number 5 weather permitting. If the weather is uncooperative\, we will meet at the library. Transcendent Kingdom is also available on Libby as an ebook or audiobook. Register for the program to receive an update if the weather not accommodate an outdoor event. Register at GranvilleLibrary.org/calendar/month
LOCATION:Infirmary Mound Park shelter house #5
UID:e.180.14818
SEQUENCE:3
DTSTAMP:20260421T163337Z
URL:https://business.granvilleoh.com/events/details/overlooked-books-book-club-transcendent-kingdom-14818
END:VEVENT

END:VCALENDAR
