BEGIN:VCALENDAR
VERSION:2.0
PRODID:-//ChamberMaster//Event Calendar 2.0//EN
METHOD:PUBLISH
X-PUBLISHED-TTL:P3D
REFRESH-INTERVAL:P3D
CALSCALE:GREGORIAN
BEGIN:VEVENT
DTSTART:20200325T210000Z
DTEND:20200325T220000Z
X-MICROSOFT-CDO-ALLDAYEVENT:FALSE
SUMMARY:Pages & Pints Book Club
DESCRIPTION:Join us for the new Book Club - Pages & Pints! Enjoy new popular titles while networking with community members - and enjoying a refreshing beverage! The March selection is "Will My Cat Eat My Eyeballs?" by Caitlin Doughty. Grab a copy at the Granville Public Library\, and join us for a casual conversation! The book club will convene on the FOURTH Wednesday of the month from 5-6pm at the Creative COOP\, 119 W. Broadway. All are welcome!
X-ALT-DESC;FMTTYPE=text/html:Join us for the new Book Club - Pages &amp\; Pints! Enjoy new popular titles while networking with community members - and enjoying a refreshing beverage! The March selection is &quot\;Will My Cat Eat My Eyeballs?&quot\; by Caitlin Doughty. Grab a copy at the Granville Public Library\, and join us for a casual conversation! The book club will convene on the FOURTH Wednesday of the month from 5-6pm at the Creative COOP\, 119 W. Broadway. All are welcome!
LOCATION:Creative COOP\, 119 W. Broadway
UID:e.180.14325
SEQUENCE:3
DTSTAMP:20260422T141928Z
URL:https://business.granvilleoh.com/events/details/pages-pints-book-club-03-25-2020-14325
END:VEVENT

END:VCALENDAR
