BEGIN:VCALENDAR
VERSION:2.0
PRODID:-//ChamberMaster//Event Calendar 2.0//EN
METHOD:PUBLISH
X-PUBLISHED-TTL:P3D
REFRESH-INTERVAL:P3D
CALSCALE:GREGORIAN
BEGIN:VEVENT
DTSTART:20200226T220000Z
DTEND:20200226T230000Z
X-MICROSOFT-CDO-ALLDAYEVENT:FALSE
SUMMARY:Pages & Pints Book Club
DESCRIPTION:Join us for our NEW 2020 Book Club - Pages & Pints! Enjoy new popular titles while networking with community members - and enjoying a refreshing beverage! The February title is Donald A. Norman's "The Design of Everyday Things" Grab a copy at the Granville Public Library\, and join us for a casual conversation! The book club will convene on the FOURTH Wednesday of the month from 5-6pm at the Creative COOP. All are welcome!
X-ALT-DESC;FMTTYPE=text/html:Join us for our NEW 2020 Book Club - Pages &amp\; Pints! Enjoy new popular titles while networking with community members - and enjoying a refreshing beverage! The February title is Donald A. Norman&#39\;s &quot\;The Design of Everyday Things&quot\; Grab a copy at the Granville Public Library\, and join us for a casual conversation! The book club will convene on the FOURTH Wednesday of the month from 5-6pm at the Creative COOP. All are welcome!
LOCATION:Creative COOP 119 W. Broadway
UID:e.180.14275
SEQUENCE:3
DTSTAMP:20260422T154115Z
URL:https://business.granvilleoh.com/events/details/pages-pints-book-club-14275
END:VEVENT

END:VCALENDAR
