BEGIN:VCALENDAR
VERSION:2.0
PRODID:-//ChamberMaster//Event Calendar 2.0//EN
METHOD:PUBLISH
X-PUBLISHED-TTL:P3D
REFRESH-INTERVAL:P3D
CALSCALE:GREGORIAN
BEGIN:VEVENT
DTSTART:20200324T180000Z
DTEND:20200324T190000Z
X-MICROSOFT-CDO-ALLDAYEVENT:FALSE
SUMMARY:Painting
DESCRIPTION:An hour of painting fun (dress for a mess) Grades K to 6
X-ALT-DESC;FMTTYPE=text/html:An hour of painting fun (dress for a mess) Grades K to 6
LOCATION:Granville Public Library
UID:e.180.14350
SEQUENCE:3
DTSTAMP:20260422T141611Z
URL:https://business.granvilleoh.com/events/details/painting-14350
END:VEVENT

END:VCALENDAR
