BEGIN:VCALENDAR
VERSION:2.0
PRODID:-//ChamberMaster//Event Calendar 2.0//EN
METHOD:PUBLISH
X-PUBLISHED-TTL:P3D
REFRESH-INTERVAL:P3D
CALSCALE:GREGORIAN
BEGIN:VEVENT
DTSTART:20200214T000000Z
DTEND:20200214T013000Z
X-MICROSOFT-CDO-ALLDAYEVENT:FALSE
SUMMARY:Paper Quilling: The Thrill of the Quill
DESCRIPTION:Learn the basics of paper quilling and create a Valentine's Day themed project. Register at granvillelibrary.org/calendar. Adults only please.
X-ALT-DESC;FMTTYPE=text/html:Learn the basics of paper quilling and create a Valentine&#39\;s Day themed project. Register at granvillelibrary.org/calendar. Adults only please.
LOCATION:Granville Public Library
UID:e.180.14043
SEQUENCE:3
DTSTAMP:20260422T160213Z
URL:https://business.granvilleoh.com/events/details/paper-quilling-the-thrill-of-the-quill-14043
END:VEVENT

END:VCALENDAR
