BEGIN:VCALENDAR
VERSION:2.0
PRODID:-//ChamberMaster//Event Calendar 2.0//EN
METHOD:PUBLISH
X-PUBLISHED-TTL:P3D
REFRESH-INTERVAL:P3D
CALSCALE:GREGORIAN
BEGIN:VEVENT
DTSTART:20210723T150000Z
DTEND:20210723T160000Z
X-MICROSOFT-CDO-ALLDAYEVENT:FALSE
SUMMARY:Parachute Games
DESCRIPTION:Meet us for parachute games at Wildwood Park\, weather permitting. The program will be cancelled for inclement weather. Grades K to 6.
X-ALT-DESC;FMTTYPE=text/html:Meet us for parachute games at Wildwood Park\, weather permitting. The program will be cancelled for inclement weather. Grades K to 6.
LOCATION:Wildwood Park
UID:e.180.16028
SEQUENCE:3
DTSTAMP:20260421T163154Z
URL:https://business.granvilleoh.com/events/details/parachute-games-07-23-2021-16028
END:VEVENT

END:VCALENDAR
