BEGIN:VCALENDAR
VERSION:2.0
PRODID:-//ChamberMaster//Event Calendar 2.0//EN
METHOD:PUBLISH
X-PUBLISHED-TTL:P3D
REFRESH-INTERVAL:P3D
CALSCALE:GREGORIAN
BEGIN:VEVENT
DTSTART:20211015T150000Z
DTEND:20211015T160000Z
X-MICROSOFT-CDO-ALLDAYEVENT:FALSE
SUMMARY:Parachute Games at Wildwood
DESCRIPTION:Meet us at Wildwood Park for parachute games. Rising Grades K to 6. Registration required. Cancelled with inclement weather. Wildwood Park.
X-ALT-DESC;FMTTYPE=text/html:Meet us at Wildwood Park for parachute games. Rising Grades K to 6. Registration required. Cancelled with inclement weather. Wildwood Park.
LOCATION:Granville Public Library at Wildwood Park
UID:e.180.16084
SEQUENCE:3
DTSTAMP:20260421T140400Z
URL:https://business.granvilleoh.com/events/details/parachute-games-at-wildwood-16084
END:VEVENT

END:VCALENDAR
