BEGIN:VCALENDAR
VERSION:2.0
PRODID:-//ChamberMaster//Event Calendar 2.0//EN
METHOD:PUBLISH
X-PUBLISHED-TTL:P3D
REFRESH-INTERVAL:P3D
CALSCALE:GREGORIAN
BEGIN:VEVENT
DTSTART:20210215T160000Z
DTEND:20210215T163000Z
X-MICROSOFT-CDO-ALLDAYEVENT:FALSE
SUMMARY:Pet Party via Zoom
DESCRIPTION:Whether you have a pet or wish you did\, come to our Pet Party to show off your cat\, dog\, hamster\, or invisible rhinoceros. Grades K to 6. Register at GranvilleLibrary.org/calendar/month
X-ALT-DESC;FMTTYPE=text/html:Whether you have a pet or wish you did\, come to our Pet Party to show off your cat\, dog\, hamster\, or invisible rhinoceros. Grades K to 6. Register at GranvilleLibrary.org/calendar/month
LOCATION:Granville Public Library via Zoom
UID:e.180.14733
SEQUENCE:3
DTSTAMP:20260421T232922Z
URL:https://business.granvilleoh.com/events/details/pet-party-via-zoom-14733
END:VEVENT

END:VCALENDAR
