BEGIN:VCALENDAR
VERSION:2.0
PRODID:-//ChamberMaster//Event Calendar 2.0//EN
METHOD:PUBLISH
X-PUBLISHED-TTL:P3D
REFRESH-INTERVAL:P3D
CALSCALE:GREGORIAN
BEGIN:VEVENT
DTSTART:20201211T230000Z
DTEND:20201212T003000Z
X-MICROSOFT-CDO-ALLDAYEVENT:FALSE
SUMMARY:Piecing it Together: A Jigsaw Puzzle Mystery (Zoom)
DESCRIPTION:Will your team be the first to solve the jigsaw puzzle mystery? We'll all meet on Zoom to unwrap puzzle boxes simultaneously. Read the story included\, assemble the puzzle to find the clues. Solve the mystery first to win! Space is limited. Register to join us for this fun evening! Please only take a puzzle if you are planning on participating in this live Zoom event. We will notify you via email when your puzzle is ready to be picked up. Only one person from your group needs to register. Recommended for families and groups of adults and/or kids in grades 7 and older. Register at GranvilleLibrary.org/calendar by Wednesday\, Dec. 9 at noon and pick your puzzle up by 8pm that evening.
X-ALT-DESC;FMTTYPE=text/html:Will your team be the first to solve the jigsaw puzzle mystery? We&#39\;ll all meet on Zoom to unwrap puzzle boxes simultaneously. Read the story included\, assemble the puzzle to find the clues. Solve the mystery first to win! Space is limited. Register to join us for this fun evening! Please only take a puzzle if you are planning on participating in this live Zoom event. We will notify you via email when your puzzle is ready to be picked up. Only one person from your group needs to register. Recommended for families and groups of adults and/or kids in grades 7 and older. Register at GranvilleLibrary.org/calendar by Wednesday\, Dec. 9 at noon and pick your puzzle up by 8pm that evening.
LOCATION:Granville Public Library via Zoom
UID:e.180.14688
SEQUENCE:3
DTSTAMP:20260422T020221Z
URL:https://business.granvilleoh.com/events/details/piecing-it-together-a-jigsaw-puzzle-mystery-zoom-14688
END:VEVENT

END:VCALENDAR
