BEGIN:VCALENDAR
VERSION:2.0
PRODID:-//ChamberMaster//Event Calendar 2.0//EN
METHOD:PUBLISH
X-PUBLISHED-TTL:P3D
REFRESH-INTERVAL:P3D
CALSCALE:GREGORIAN
BEGIN:VEVENT
DTSTART:20210618T230000Z
DTEND:20210619T003000Z
X-MICROSOFT-CDO-ALLDAYEVENT:FALSE
SUMMARY:Pirate Plunder Virtual Escape Room
DESCRIPTION:A mysterious pirate ship into the pier. Rumor has it this is the ship sailed by the notorious pirate Sharkbait Sully but he and his crew are nowhere to be seen. You'll work collaboratively to solve the secrets of the ship before the ship sinks and your team becomes shark bait themselves. Register to join this virtual adventure. Space is limited. Register at GranvilleLibrary.org/calendar/month
X-ALT-DESC;FMTTYPE=text/html:A mysterious pirate ship into the pier. Rumor has it this is the ship sailed by the notorious pirate Sharkbait Sully but he and his crew are nowhere to be seen. You&#39\;ll work collaboratively to solve the secrets of the ship before the ship sinks and your team becomes shark bait themselves. Register to join this virtual adventure. Space is limited. Register at GranvilleLibrary.org/calendar/month
LOCATION:Granville Public Library via Zoom
UID:e.180.14811
SEQUENCE:3
DTSTAMP:20260421T175047Z
URL:https://business.granvilleoh.com/events/details/pirate-plunder-virtual-escape-room-14811
END:VEVENT

END:VCALENDAR
