BEGIN:VCALENDAR
VERSION:2.0
PRODID:-//ChamberMaster//Event Calendar 2.0//EN
METHOD:PUBLISH
X-PUBLISHED-TTL:P3D
REFRESH-INTERVAL:P3D
CALSCALE:GREGORIAN
BEGIN:VEVENT
DTSTART:20210728T220000Z
DTEND:20210728T230000Z
X-MICROSOFT-CDO-ALLDAYEVENT:FALSE
SUMMARY:Pizza and Pages Teen Book Club
DESCRIPTION:Join Mrs. Bice\, Mrs. Tallentire\, and Wendy to talk about Inheritance Games by Jennifer Barnes and share a couple of pizzas. Avery Grambs has goals! She wants to go to win a scholarship and go to college but she's living in her car and only has her half-sister as a lifeline. Her fortune suddenly changes but the reasons are shrouded in mystery. Registration required at GranvilleLibrary.org/calendar/month. Copies of the book are available at our main desk. For rising grades 7-12.
X-ALT-DESC;FMTTYPE=text/html:Join Mrs. Bice\, Mrs. Tallentire\, and Wendy to talk about Inheritance Games by Jennifer Barnes and share a couple of pizzas. Avery Grambs has goals! She wants to go to win a scholarship and go to college but she&#39\;s living in her car and only has her half-sister as a lifeline. Her fortune suddenly changes but the reasons are shrouded in mystery. Registration required at GranvilleLibrary.org/calendar/month. Copies of the book are available at our main desk. For rising grades 7-12.
LOCATION:Granville Public Library
UID:e.180.16032
SEQUENCE:3
DTSTAMP:20260421T163449Z
URL:https://business.granvilleoh.com/events/details/pizza-and-pages-teen-book-club-16032
END:VEVENT

END:VCALENDAR
