BEGIN:VCALENDAR
VERSION:2.0
PRODID:-//ChamberMaster//Event Calendar 2.0//EN
METHOD:PUBLISH
X-PUBLISHED-TTL:P3D
REFRESH-INTERVAL:P3D
CALSCALE:GREGORIAN
BEGIN:VEVENT
DTSTART:20200221T000000Z
DTEND:20200221T010000Z
X-MICROSOFT-CDO-ALLDAYEVENT:FALSE
SUMMARY:Planning a Successful Vegetable Garden
DESCRIPTION:Learn about having a productive garden in 2020.  There is lots to it:  Planning\, Timing\, Preparation\, and Execution.  Licking County Master Gardener Volunteer Lina Robinson will share some of the tricks she has learned over the years to have a successful garden that produces lots of healthy and tasty vegetables.    \n\nLina Robinson has been an MGV since 2014\, and developed and taught the Veggie Series classes in Licking County for LCMGV.  She and her husband\, Scott\, grow all their own vegetables to eat all year in their garden and high tunnel.
X-ALT-DESC;FMTTYPE=text/html:Learn about having a productive garden in 2020.  There is lots to it:  Planning\, Timing\, Preparation\, and Execution.  Licking County Master Gardener Volunteer Lina Robinson will share some of the tricks she has learned over the years to have a successful garden that produces lots of healthy and tasty vegetables.    \n\nLina Robinson has been an MGV since 2014\, and developed and taught the Veggie Series classes in Licking County for LCMGV.  She and her husband\, Scott\, grow all their own vegetables to eat all year in their garden and high tunnel.  \n
LOCATION:Granville Public Library
UID:e.180.14078
SEQUENCE:3
DTSTAMP:20260422T154115Z
URL:https://business.granvilleoh.com/events/details/planning-a-successful-vegetable-garden-14078
END:VEVENT

END:VCALENDAR
