BEGIN:VCALENDAR
VERSION:2.0
PRODID:-//ChamberMaster//Event Calendar 2.0//EN
METHOD:PUBLISH
X-PUBLISHED-TTL:P3D
REFRESH-INTERVAL:P3D
CALSCALE:GREGORIAN
BEGIN:VEVENT
DTSTART:20201208T230000Z
DTEND:20201209T010000Z
X-MICROSOFT-CDO-ALLDAYEVENT:FALSE
SUMMARY:Pom-pom Wreath: Adult Craft Session via Zoom
DESCRIPTION:Join us on Zoom to make a pompom wreath to decorate your home for the holidays. We'll supply the yarn\, wreath frame\, and three sizes of pompom makers. Register by Monday\, Dec. 7th and pick up your kit before 6:00pm that day. Register at GranvilleLibrary.org/calendar/month
X-ALT-DESC;FMTTYPE=text/html:Join us on Zoom to make a pompom wreath to decorate your home for the holidays. We&#39\;ll supply the yarn\, wreath frame\, and three sizes of pompom makers. Register by Monday\, Dec. 7th and pick up your kit before 6:00pm that day. Register at GranvilleLibrary.org/calendar/month
LOCATION:Granville Public Library via Zoom
UID:e.180.14683
SEQUENCE:3
DTSTAMP:20260422T020509Z
URL:https://business.granvilleoh.com/events/details/pom-pom-wreath-adult-craft-session-via-zoom-14683
END:VEVENT

END:VCALENDAR
