BEGIN:VCALENDAR
VERSION:2.0
PRODID:-//ChamberMaster//Event Calendar 2.0//EN
METHOD:PUBLISH
X-PUBLISHED-TTL:P3D
REFRESH-INTERVAL:P3D
CALSCALE:GREGORIAN
BEGIN:VEVENT
DTSTART:20200605T020000Z
DTEND:20200605T024000Z
X-MICROSOFT-CDO-ALLDAYEVENT:FALSE
SUMMARY:Preschool Time
DESCRIPTION:Thursdays\, 10am on Facebook Live / Thursdays\, 10:20am on Instagram Live Songs\, rhymes\, and stories for preschoolers. 3 to 5 years
X-ALT-DESC;FMTTYPE=text/html:Thursdays\, 10am on Facebook Live / Thursdays\, 10:20am on Instagram Live Songs\, rhymes\, and stories for preschoolers. 3 to 5 years
LOCATION:Granville Public Library's Facebook page or Instagram at GPL_Kids
UID:e.180.14506
SEQUENCE:3
DTSTAMP:20260422T102159Z
URL:https://business.granvilleoh.com/events/details/preschool-time-06-04-2020-14506
END:VEVENT

END:VCALENDAR
