BEGIN:VCALENDAR
VERSION:2.0
PRODID:-//ChamberMaster//Event Calendar 2.0//EN
METHOD:PUBLISH
X-PUBLISHED-TTL:P3D
REFRESH-INTERVAL:P3D
CALSCALE:GREGORIAN
BEGIN:VEVENT
DTSTART:20210610T140000Z
DTEND:20210610T143000Z
X-MICROSOFT-CDO-ALLDAYEVENT:FALSE
SUMMARY:Preschool Time
DESCRIPTION:Songs and rhymes at Robbins Hunter Museum\, behind the historic house in the Garden Folly\, weather permitting. The program will be canceled for inclement weather. Ages 3 to 5 years. Thursdays at 10am in June and July beginning June 10.
X-ALT-DESC;FMTTYPE=text/html:Songs and rhymes at Robbins Hunter Museum\, behind the historic house in the Garden Folly\, weather permitting. The program will be canceled for inclement weather. Ages 3 to 5 years. Thursdays at 10am in June and July beginning June 10.
LOCATION:Robbins Hunter Museum gardens with the Granville Public Library
UID:e.180.14798
SEQUENCE:3
DTSTAMP:20260421T175306Z
URL:https://business.granvilleoh.com/events/details/preschool-time-06-10-2021-14798
END:VEVENT

END:VCALENDAR
