BEGIN:VCALENDAR
VERSION:2.0
PRODID:-//ChamberMaster//Event Calendar 2.0//EN
METHOD:PUBLISH
X-PUBLISHED-TTL:P3D
REFRESH-INTERVAL:P3D
CALSCALE:GREGORIAN
BEGIN:VEVENT
DTSTART:20210529T213000Z
DTEND:20210529T223000Z
X-MICROSOFT-CDO-ALLDAYEVENT:FALSE
SUMMARY:'RECOVER | RESTORE'
DESCRIPTION:"RECOVER | RESTORE" is an outdoor performance and immersive experience\, which turns to the arts as a way to recalibrate in the midst of the pandemic. \n\n\n\nThis interdisciplinary show is a collaboration between Denison artists-educators Ojeya Cruz-Banks\, Eleni Papaleonardos\, and Hanna Hurwitz. It includes works by James Taylor\, Bach\, Wieland\, and Papaleonardos\, and involves music\, dance\, and immersive theater. It also includes audience participation\, reflection\, and walking over the course of approximately 30 minutes.  \n\nWhile the experience is not physically strenuous\, please reserve tickets with these details in mind and wear comfortable walking shoes. There is no seating. Audience groups are limited (15 people at The Eisner Center\, 25 people at Sugar Loaf). \n\n\n\nPerformance Times and Locations:\n\n\n	5:30 p.m. performance takes place outside the Michael D. Eisner Center for the Performing Arts (240 West Broadway) (meet at the side Mulberry St entrance - parking lot area)\n	\n	7 p.m. performance takes place at Sugar Loaf Park (411 W Broadway)\n	\n\n\n(meet at the park entrance by the sign)\n\nThe rain date for this production is the next day\, Sunday May 30. You will be contacted by the email provided on SignUp Genius if the performance is pushed to the rain date.
X-ALT-DESC;FMTTYPE=text/html:<p><span style="background-color:transparent\; color:rgb(0\, 0\, 0)\; font-family:arial\; font-size:11pt">&quot\;RECOVER | RESTORE&quot\; is an outdoor performance and immersive experience\, which turns to the arts as a way to recalibrate in the midst of the pandemic.&nbsp\;</span><br />\n<br />\n<span style="color:rgb(0\, 0\, 0)\; font-family:arial\; font-size:11pt">This interdisciplinary show is a collaboration between Denison artists-educators Ojeya Cruz-Banks\, Eleni Papaleonardos\, and Hanna Hurwitz. It includes works by James Taylor\, Bach\, Wieland\, and Papaleonardos\, and involves music\, dance\, and immersive theater. It also includes audience participation\, reflection\, and walking over the course of approximately 30 minutes.&nbsp\;&nbsp\;</span></p>\n\n<p><span style="color:rgb(0\, 0\, 0)\; font-family:arial\; font-size:11pt">While the experience is not physically strenuous\, please reserve tickets with these details in mind and wear comfortable walking shoes. There is no seating. Audience groups are limited (15 people at The Eisner Center\, 25 people at Sugar Loaf).&nbsp\;</span><br />\n<br />\n<span style="color:rgb(0\, 0\, 0)\; font-family:arial\; font-size:11pt">Performance Times and Locations:</span></p>\n\n<ul>\n	<li><span style="font-size:11pt">5:30 p.m. performance takes place outside the Michael D. Eisner Center for the Performing Arts (240 West Broadway) (meet at the side Mulberry St entrance - parking lot area)</span></li>\n	<li>\n	<p><span style="font-size:11pt">7 p.m. performance takes place at Sugar Loaf Park (411 W Broadway)</span></p>\n	</li>\n</ul>\n\n<p style="margin-left:36pt"><span style="color:rgb(0\, 0\, 0)\; font-family:arial\; font-size:11pt">(meet at the park entrance by the sign)</span></p>\n\n<div><span style="color:rgb(0\, 0\, 0)\; font-family:arial\; font-size:11pt">The rain date for this production is the next day\, Sunday May 30. You will be contacted by the email provided </span><span style="color:rgb(0\, 0\, 255)\; font-family:arial\; font-size:11pt">on SignUp Genius</span><span style="color:rgb(0\, 0\, 0)\; font-family:arial\; font-size:11pt"> if the performance is pushed to the rain date.</span></div>\n
LOCATION:Michael D. Eisner Center for the Performing Arts (240 West Broadway) (meet at the side Mulberry St entrance - parking lot area)
UID:e.180.14789
SEQUENCE:3
DTSTAMP:20260421T191111Z
URL:https://business.granvilleoh.com/events/details/recover-restore-14789
END:VEVENT

END:VCALENDAR
