BEGIN:VCALENDAR
VERSION:2.0
PRODID:-//ChamberMaster//Event Calendar 2.0//EN
METHOD:PUBLISH
X-PUBLISHED-TTL:P3D
REFRESH-INTERVAL:P3D
CALSCALE:GREGORIAN
BEGIN:VEVENT
DTSTART:20210212T230000Z
DTEND:20210212T234500Z
X-MICROSOFT-CDO-ALLDAYEVENT:FALSE
SUMMARY:Romeo & Juliet: The Flying Implement of Doom Edition!
DESCRIPTION:Join Shakespeare for an evening of interactive silliness for the little ones and jokes for the big ones as the Bard coaches volunteers from the audience to recite lines from his famous play. Families with kids of all ages. Register at GranvilleLibrary.org/calendar/month
X-ALT-DESC;FMTTYPE=text/html:Join Shakespeare for an evening of interactive silliness for the little ones and jokes for the big ones as the Bard coaches volunteers from the audience to recite lines from his famous play. Families with kids of all ages. Register at GranvilleLibrary.org/calendar/month
LOCATION:Granville Public Library via Zoom
UID:e.180.14730
SEQUENCE:3
DTSTAMP:20260422T003407Z
URL:https://business.granvilleoh.com/events/details/romeo-juliet-the-flying-implement-of-doom-edition-14730
END:VEVENT

END:VCALENDAR
