BEGIN:VCALENDAR
VERSION:2.0
PRODID:-//ChamberMaster//Event Calendar 2.0//EN
METHOD:PUBLISH
X-PUBLISHED-TTL:P3D
REFRESH-INTERVAL:P3D
CALSCALE:GREGORIAN
BEGIN:VEVENT
DTSTART:20211205T180000Z
DTEND:20211205T220000Z
X-MICROSOFT-CDO-ALLDAYEVENT:FALSE
SUMMARY:Runaway Reindeer Lego Show
DESCRIPTION:Help us solve the mystery of the runaway reindeer by solving puzzles and hunting for clues! Enjoy festive lego displays\, complete a seek and find\, solve a puzzle or two. Stop in\, warm-up\, and have some fun!
X-ALT-DESC;FMTTYPE=text/html:Help us solve the mystery of the runaway reindeer by solving puzzles and hunting for clues! Enjoy festive lego displays\, complete a seek and find\, solve a puzzle or two. Stop in\, warm-up\, and have some fun!
LOCATION:Granville Public Library
UID:e.180.16154
SEQUENCE:3
DTSTAMP:20260421T111836Z
URL:https://business.granvilleoh.com/events/details/runaway-reindeer-lego-show-16154
END:VEVENT

END:VCALENDAR
