BEGIN:VCALENDAR
VERSION:2.0
PRODID:-//ChamberMaster//Event Calendar 2.0//EN
METHOD:PUBLISH
X-PUBLISHED-TTL:P3D
REFRESH-INTERVAL:P3D
CALSCALE:GREGORIAN
BEGIN:VEVENT
DTSTART:20200118T150000Z
DTEND:20200118T160000Z
X-MICROSOFT-CDO-ALLDAYEVENT:FALSE
SUMMARY:Saturday Morning Special: Artic Animals
DESCRIPTION:Stories\, songs\, and activities featuring Arctic animals. Designed for ages 3 to 5. Older siblings welcome.
X-ALT-DESC;FMTTYPE=text/html:Stories\, songs\, and activities featuring Arctic animals. Designed for ages 3 to 5. Older siblings welcome.
LOCATION:Granville Public Library
UID:e.180.14021
SEQUENCE:3
DTSTAMP:20260422T183419Z
URL:https://business.granvilleoh.com/events/details/saturday-morning-special-artic-animals-14021
END:VEVENT

END:VCALENDAR
