BEGIN:VCALENDAR
VERSION:2.0
PRODID:-//ChamberMaster//Event Calendar 2.0//EN
METHOD:PUBLISH
X-PUBLISHED-TTL:P3D
REFRESH-INTERVAL:P3D
CALSCALE:GREGORIAN
BEGIN:VEVENT
DTSTART:20200411T140000Z
DTEND:20200411T150000Z
X-MICROSOFT-CDO-ALLDAYEVENT:FALSE
SUMMARY:Saturday Morning Special: Build a Zoo
DESCRIPTION:A zoo-themed storytime will be followed by a habitat-building activity. Designed for ages 3 to 5.
X-ALT-DESC;FMTTYPE=text/html:A zoo-themed storytime will be followed by a habitat-building activity. Designed for ages 3 to 5.
LOCATION:Granville Public Library
UID:e.180.14403
SEQUENCE:3
DTSTAMP:20260422T125856Z
URL:https://business.granvilleoh.com/events/details/saturday-morning-special-build-a-zoo-14403
END:VEVENT

END:VCALENDAR
