BEGIN:VCALENDAR
VERSION:2.0
PRODID:-//ChamberMaster//Event Calendar 2.0//EN
METHOD:PUBLISH
X-PUBLISHED-TTL:P3D
REFRESH-INTERVAL:P3D
CALSCALE:GREGORIAN
BEGIN:VEVENT
DTSTART:20201030T220000Z
DTEND:20201030T230000Z
X-MICROSOFT-CDO-ALLDAYEVENT:FALSE
SUMMARY:Scary Stories to Tell in Your Fort (via Zoom)
DESCRIPTION:Make a blanket fort at home before the program begins and then gather the family around for games and creepy stories by Lyn Ford. (Families with Children of All Ages) Register with an email address to receive a Zoom login about an hour before the program at GranvilleLibrary.org/calendar/month
X-ALT-DESC;FMTTYPE=text/html:Make a blanket fort at home before the program begins and then gather the family around for games and creepy stories by Lyn Ford. (Families with Children of All Ages) Register with an email address to receive a Zoom login about an hour before the program at GranvilleLibrary.org/calendar/month
LOCATION:Granville Public Library via Zoom
UID:e.180.14646
SEQUENCE:3
DTSTAMP:20260422T045052Z
URL:https://business.granvilleoh.com/events/details/scary-stories-to-tell-in-your-fort-via-zoom-14646
END:VEVENT

END:VCALENDAR
