BEGIN:VCALENDAR
VERSION:2.0
PRODID:-//ChamberMaster//Event Calendar 2.0//EN
METHOD:PUBLISH
X-PUBLISHED-TTL:P3D
REFRESH-INTERVAL:P3D
CALSCALE:GREGORIAN
BEGIN:VEVENT
DTSTART:20210220T000000Z
DTEND:20210220T010000Z
X-MICROSOFT-CDO-ALLDAYEVENT:FALSE
SUMMARY:Scattegories Scavenger Hunt via Zoom
DESCRIPTION:We're going on a virtual scavenger hunt! A roll of the die will determine what you need to find in your home. The winner will receive a box of alphabetical treats! Registration with an email address is required. You will be emailed a Zoom link about an hour before the start of the program. Register at GranvilleLibrary.org/calendar/month
X-ALT-DESC;FMTTYPE=text/html:We&#39\;re going on a virtual scavenger hunt! A roll of the die will determine what you need to find in your home. The winner will receive a box of alphabetical treats! Registration with an email address is required. You will be emailed a Zoom link about an hour before the start of the program. Register at GranvilleLibrary.org/calendar/month
LOCATION:Granville Public Library via Zoom
UID:e.180.14740
SEQUENCE:3
DTSTAMP:20260422T003439Z
URL:https://business.granvilleoh.com/events/details/scattegories-scavenger-hunt-via-zoom-14740
END:VEVENT

END:VCALENDAR
