BEGIN:VCALENDAR
VERSION:2.0
PRODID:-//ChamberMaster//Event Calendar 2.0//EN
METHOD:PUBLISH
X-PUBLISHED-TTL:P3D
REFRESH-INTERVAL:P3D
CALSCALE:GREGORIAN
BEGIN:VEVENT
DTSTART:20200217T150000Z
DTEND:20200217T203000Z
X-MICROSOFT-CDO-ALLDAYEVENT:FALSE
SUMMARY:School's Out\, Hang Out
DESCRIPTION:Drop into the Children's Department to hang out. We'll have activities and crafts to help you pass the day. Grades K to 6
X-ALT-DESC;FMTTYPE=text/html:Drop into the Children&#39\;s Department to hang out. We&#39\;ll have activities and crafts to help you pass the day. Grades K to 6
LOCATION:Granville Public Library
UID:e.180.14074
SEQUENCE:3
DTSTAMP:20260422T155013Z
URL:https://business.granvilleoh.com/events/details/school-s-out-hang-out-02-17-2020-14074
END:VEVENT

END:VCALENDAR
