BEGIN:VCALENDAR
VERSION:2.0
PRODID:-//ChamberMaster//Event Calendar 2.0//EN
METHOD:PUBLISH
X-PUBLISHED-TTL:P3D
REFRESH-INTERVAL:P3D
CALSCALE:GREGORIAN
BEGIN:VEVENT
DTSTART:20200214T150000Z
DTEND:20200214T203000Z
X-MICROSOFT-CDO-ALLDAYEVENT:FALSE
SUMMARY:School's Out\, Hang Out
DESCRIPTION:Drop in to the Children's Department to hang out. We'll have activities and crafts to help pass the day.
X-ALT-DESC;FMTTYPE=text/html:Drop in to the Children&#39\;s Department to hang out. We&#39\;ll have activities and crafts to help pass the day.
LOCATION:Granville Public Library
UID:e.180.14070
SEQUENCE:3
DTSTAMP:20260422T170943Z
URL:https://business.granvilleoh.com/events/details/school-s-out-hang-out-14070
END:VEVENT

END:VCALENDAR
