BEGIN:VCALENDAR
VERSION:2.0
PRODID:-//ChamberMaster//Event Calendar 2.0//EN
METHOD:PUBLISH
X-PUBLISHED-TTL:P3D
REFRESH-INTERVAL:P3D
CALSCALE:GREGORIAN
BEGIN:VEVENT
DTSTART:20200616T190000Z
DTEND:20200616T200000Z
X-MICROSOFT-CDO-ALLDAYEVENT:FALSE
SUMMARY:Science Tellers: Dragons: Return of the Ice Sorceress
DESCRIPTION:Rising Grades K to 6 Long\, long ago\, two kids go on a daring adventure to find a dragon and save the kingdom from the Ice Sorceress! When things don't go as planned\, however\, they must turn to themselves (and to science!) for the answer. A fun fantasy adventure with dry ice effects! Register at GranvilleLibrary.org/calendar/month to receive a link to the zoom call.
X-ALT-DESC;FMTTYPE=text/html:Rising Grades K to 6 Long\, long ago\, two kids go on a daring adventure to find a dragon and save the kingdom from the Ice Sorceress! When things don&rsquo\;t go as planned\, however\, they must turn to themselves (and to science!) for the answer. A fun fantasy adventure with dry ice effects! Register at GranvilleLibrary.org/calendar/month to receive a link to the zoom call.
LOCATION:Granville Public Library via Zoom
UID:e.180.14526
SEQUENCE:3
DTSTAMP:20260422T114748Z
URL:https://business.granvilleoh.com/events/details/science-tellers-dragons-return-of-the-ice-sorceress-14526
END:VEVENT

END:VCALENDAR
