BEGIN:VCALENDAR
VERSION:2.0
PRODID:-//ChamberMaster//Event Calendar 2.0//EN
METHOD:PUBLISH
X-PUBLISHED-TTL:P3D
REFRESH-INTERVAL:P3D
CALSCALE:GREGORIAN
BEGIN:VEVENT
DTSTART:20211006T160000Z
DTEND:20211006T170000Z
X-MICROSOFT-CDO-ALLDAYEVENT:FALSE
SUMMARY:Seasonal Take & Make: Flannel Pumpkin
DESCRIPTION:Register to pick up a seasonal take-and-make craft! Instructions and supplies will be included. One kit per registration. No corresponding program. Kits not picked up by Oct. 20 will be distributed to patrons on the waiting list. For adults and teens in grades 7-12. Register at GranvilleLibrary.org/calendar/month
X-ALT-DESC;FMTTYPE=text/html:Register to pick up a seasonal take-and-make craft! Instructions and supplies will be included. One kit per registration. No corresponding program. Kits not picked up by Oct. 20 will be distributed to patrons on the waiting list. For adults and teens in grades 7-12. Register at GranvilleLibrary.org/calendar/month
LOCATION:Granville Public Library
UID:e.180.16075
SEQUENCE:3
DTSTAMP:20260421T125351Z
URL:https://business.granvilleoh.com/events/details/seasonal-take-make-flannel-pumpkin-16075
END:VEVENT

END:VCALENDAR
