BEGIN:VCALENDAR
VERSION:2.0
PRODID:-//ChamberMaster//Event Calendar 2.0//EN
METHOD:PUBLISH
X-PUBLISHED-TTL:P3D
REFRESH-INTERVAL:P3D
CALSCALE:GREGORIAN
BEGIN:VEVENT
DTSTART:20200227T003000Z
DTEND:20200227T020000Z
X-MICROSOFT-CDO-ALLDAYEVENT:FALSE
SUMMARY:Senior Recital with Anthony Bruno
DESCRIPTION:The Department of Music welcomes Denison senior Anthony Bruno presenting a saxophone recital.
X-ALT-DESC;FMTTYPE=text/html:<span style="color:rgb(0\, 0\, 0)\; font-family:arial\; font-size:11pt">The Department of Music welcomes Denison senior Anthony Bruno presenting a saxophone recital.</span>\n<div>&nbsp\;</div>\n
LOCATION:Denison University Burke Recital Hall of the Michael D. Eisner Center for the Performing Arts 240 West Broadway
UID:e.180.14257
SEQUENCE:3
DTSTAMP:20260422T154121Z
URL:https://business.granvilleoh.com/events/details/senior-recital-with-anthony-bruno-14257
END:VEVENT

END:VCALENDAR
