BEGIN:VCALENDAR
VERSION:2.0
PRODID:-//ChamberMaster//Event Calendar 2.0//EN
METHOD:PUBLISH
X-PUBLISHED-TTL:P3D
REFRESH-INTERVAL:P3D
CALSCALE:GREGORIAN
BEGIN:VEVENT
DTSTART:20200311T233000Z
DTEND:20200312T003000Z
X-MICROSOFT-CDO-ALLDAYEVENT:FALSE
SUMMARY:Senior Recital with Griffin Jeanette
DESCRIPTION:The Department of Music welcomes Denison senior Griffin Jeanette presenting a cello recital.
X-ALT-DESC;FMTTYPE=text/html:<p><span style="font-size:11pt">The Department of Music welcomes Denison senior Griffin Jeanette presenting a cello recital.</span></p>\n&nbsp\;\n\n<div>&nbsp\;</div>\n
LOCATION:Denison University Burke Recital Hall of the Michael D. Eisner Center for the Performing Arts 240 West Broadway
UID:e.180.14298
SEQUENCE:3
DTSTAMP:20260422T142652Z
URL:https://business.granvilleoh.com/events/details/senior-recital-with-griffin-jeanette-14298
END:VEVENT

END:VCALENDAR
