BEGIN:VCALENDAR
VERSION:2.0
PRODID:-//ChamberMaster//Event Calendar 2.0//EN
METHOD:PUBLISH
X-PUBLISHED-TTL:P3D
REFRESH-INTERVAL:P3D
CALSCALE:GREGORIAN
BEGIN:VEVENT
DTSTART:20200312T233000Z
DTEND:20200313T003000Z
X-MICROSOFT-CDO-ALLDAYEVENT:FALSE
SUMMARY:Senior Recital with Nicole Harris
DESCRIPTION:The Department of Music welcomes Denison senior Nicole Harris presenting a viola recital.
X-ALT-DESC;FMTTYPE=text/html:<p><span style="font-size:11pt">The Department of Music welcomes Denison senior Nicole Harris presenting a viola recital.&nbsp\;</span></p>\n\n<div>&nbsp\;</div>\n
LOCATION:Denison University Burke Recital Hall of the Michael D. Eisner Center for the Performing Arts 240 West Broadway
UID:e.180.14299
SEQUENCE:3
DTSTAMP:20260422T142606Z
URL:https://business.granvilleoh.com/events/details/senior-recital-with-nicole-harris-14299
END:VEVENT

END:VCALENDAR
