BEGIN:VCALENDAR
VERSION:2.0
PRODID:-//ChamberMaster//Event Calendar 2.0//EN
METHOD:PUBLISH
X-PUBLISHED-TTL:P3D
REFRESH-INTERVAL:P3D
CALSCALE:GREGORIAN
BEGIN:VEVENT
DTSTART:20200126T170000Z
DTEND:20200126T180000Z
X-MICROSOFT-CDO-ALLDAYEVENT:FALSE
SUMMARY:Sensory Friendly Sunday
DESCRIPTION:Patrons can come to the library an hour before opening for a quieter\, sensory-friendly browsing experience. Registration is requested at granvillelibrary.org/calendar. For questions\, please feel free to call Danielle King 740-587-0196 ext. 109.
X-ALT-DESC;FMTTYPE=text/html:Patrons can come to the library an hour before opening for a quieter\, sensory-friendly browsing experience. Registration is requested at granvillelibrary.org/calendar. For questions\, please feel free to call Danielle King 740-587-0196 ext. 109.
LOCATION:Granville Public Library
UID:e.180.14029
SEQUENCE:3
DTSTAMP:20260422T171024Z
URL:https://business.granvilleoh.com/events/details/sensory-friendly-sunday-01-26-2020-14029
END:VEVENT

END:VCALENDAR
